BEGIN:VCALENDAR
VERSION:2.0
PRODID:-//hacksw/handcal//NONSGML v1.0//EN
BEGIN:VEVENT
UID:3331@atm
ORGANIZER:CN=ATM Qness GmbH
DTSTART;VALUE=DATE:20230913
DTEND;VALUE=DATE:20230916
SUMMARY:International Metallography Conference
LOCATION:Leoben - Austria
END:VEVENT
END:VCALENDAR