BEGIN:VCALENDAR
VERSION:2.0
PRODID:-//hacksw/handcal//NONSGML v1.0//EN
BEGIN:VEVENT
UID:3472@atm
ORGANIZER:CN=ATM Qness GmbH
DTSTART;VALUE=DATE:20180516
DTEND;VALUE=DATE:20180520
SUMMARY:Intermach 2018
LOCATION:Hall BITEC - Booth Z40 - Bankok - Thailand
END:VEVENT
END:VCALENDAR