BEGIN:VCALENDAR
VERSION:2.0
PRODID:-//hacksw/handcal//NONSGML v1.0//EN
BEGIN:VEVENT
UID:3474@atm
ORGANIZER:CN=ATM Qness GmbH
DTSTART;VALUE=DATE:20180925
DTEND;VALUE=DATE:20180928
SUMMARY:CONTROL-TECH
LOCATION:Kielce - Poland
END:VEVENT
END:VCALENDAR