BEGIN:VCALENDAR
VERSION:2.0
PRODID:-//hacksw/handcal//NONSGML v1.0//EN
BEGIN:VEVENT
UID:3475@atm
ORGANIZER:CN=ATM Qness GmbH
DTSTART;VALUE=DATE:20181001
DTEND;VALUE=DATE:20181006
SUMMARY:MSV
LOCATION:Brno - Slovakia
END:VEVENT
END:VCALENDAR