BEGIN:VCALENDAR
VERSION:2.0
PRODID:-//hacksw/handcal//NONSGML v1.0//EN
BEGIN:VEVENT
UID:3714@atm
ORGANIZER:CN=ATM Qness GmbH
DTSTART;VALUE=DATE:20191022
DTEND;VALUE=DATE:20191025
SUMMARY:Heat Treatment Congress
LOCATION:Hall 4.1 - Booth C-002 - Cologne - Germany
END:VEVENT
END:VCALENDAR