BEGIN:VCALENDAR
VERSION:2.0
PRODID:-//hacksw/handcal//NONSGML v1.0//EN
BEGIN:VEVENT
UID:3874@atm
ORGANIZER:CN=ATM Qness GmbH
DTSTART;VALUE=DATE:20190625
DTEND;VALUE=DATE:20190630
SUMMARY:GiFa
LOCATION:Hall 15 - Booth E28 - Düsseldorf - Germany
END:VEVENT
END:VCALENDAR