BEGIN:VCALENDAR
VERSION:2.0
PRODID:-//hacksw/handcal//NONSGML v1.0//EN
BEGIN:VEVENT
UID:4660@atm
ORGANIZER:CN=ATM Qness GmbH
DTSTART;VALUE=DATE:20240423
DTEND;VALUE=DATE:20240427
SUMMARY:Control
LOCATION:Hall 10 - Booth 1118 - Stuttgart - Germany
END:VEVENT
END:VCALENDAR