BEGIN:VCALENDAR
VERSION:2.0
PRODID:-//hacksw/handcal//NONSGML v1.0//EN
BEGIN:VEVENT
UID:5388@atm
ORGANIZER:CN=ATM Qness GmbH
DTSTART;VALUE=DATE:20250320

SUMMARY:ASMET - Internationale Bodensee Fachtagung
LOCATION:Hall Montforthaus - Feldkirch - Austria
END:VEVENT
END:VCALENDAR