BEGIN:VCALENDAR
VERSION:2.0
PRODID:-//hacksw/handcal//NONSGML v1.0//EN
BEGIN:VEVENT
UID:5594@atm
ORGANIZER:CN=ATM Qness GmbH
DTSTART;VALUE=DATE:20250709
DTEND;VALUE=DATE:20250711
SUMMARY:The Advanced Materials Show 2025
LOCATION:Booth Place - 1344. - NEC, Birmingham, UK - United Kingdom
END:VEVENT
END:VCALENDAR