BEGIN:VCALENDAR
VERSION:2.0
PRODID:-//hacksw/handcal//NONSGML v1.0//EN
BEGIN:VEVENT
UID:5601@atm
ORGANIZER:CN=ATM Qness GmbH
DTSTART;VALUE=DATE:20250508

SUMMARY:Webinar: QATM solutions for cutting large components
LOCATION:
END:VEVENT
END:VCALENDAR