BEGIN:VCALENDAR
VERSION:2.0
PRODID:-//hacksw/handcal//NONSGML v1.0//EN
BEGIN:VEVENT
UID:5602@atm
ORGANIZER:CN=ATM Qness GmbH
DTSTART;VALUE=DATE:20250703

SUMMARY:Webinar: Materialographic Polishing – Successful with the Suitable Polishing Cloth
LOCATION:
END:VEVENT
END:VCALENDAR