BEGIN:VCALENDAR
VERSION:2.0
PRODID:-//hacksw/handcal//NONSGML v1.0//EN
BEGIN:VEVENT
UID:5604@atm
ORGANIZER:CN=ATM Qness GmbH
DTSTART;VALUE=DATE:20250930

SUMMARY:Webinar: Inspect. Optimize. Revolutionize. With the right tools for weld seam and hardness testing processes
LOCATION:
END:VEVENT
END:VCALENDAR