BEGIN:VCALENDAR
VERSION:2.0
PRODID:-//hacksw/handcal//NONSGML v1.0//EN
BEGIN:VEVENT
UID:5610@atm
ORGANIZER:CN=ATM Qness GmbH
DTSTART;VALUE=DATE:20250918

SUMMARY:Webinar: The future of materialographic consumables: mastering regulatory and ecological challenges
LOCATION:
END:VEVENT
END:VCALENDAR