BEGIN:VCALENDAR
VERSION:2.0
PRODID:-//hacksw/handcal//NONSGML v1.0//EN
BEGIN:VEVENT
UID:5632@atm
ORGANIZER:CN=ATM Qness GmbH
DTSTART;VALUE=DATE:20251029
DTEND;VALUE=DATE:20251031
SUMMARY:Lab Innovations
LOCATION:Hall Hall 2 - Booth F55 - NEC Birmingham - United Kingdom
END:VEVENT
END:VCALENDAR