BEGIN:VCALENDAR
VERSION:2.0
PRODID:-//hacksw/handcal//NONSGML v1.0//EN
BEGIN:VEVENT
UID:5862@atm
ORGANIZER:CN=ATM Qness GmbH
DTSTART;VALUE=DATE:20260708
DTEND;VALUE=DATE:20260710
SUMMARY:The Advanced Materials Show
LOCATION:Booth 436 - Birmingham - United Kingdom
END:VEVENT
END:VCALENDAR