BEGIN:VCALENDAR
VERSION:2.0
PRODID:-//hacksw/handcal//NONSGML v1.0//EN
BEGIN:VEVENT
UID:5956@atm
ORGANIZER:CN=ATM Qness GmbH
DTSTART;VALUE=DATE:20260315
DTEND;VALUE=DATE:20260316
SUMMARY:2026 AMUG Conference
LOCATION:Booth 512 - Reno, NV - United States
END:VEVENT
END:VCALENDAR