BEGIN:VCALENDAR
VERSION:2.0
PRODID:-//hacksw/handcal//NONSGML v1.0//EN
BEGIN:VEVENT
UID:5959@atm
ORGANIZER:CN=ATM Qness GmbH
DTSTART;VALUE=DATE:20260414
DTEND;VALUE=DATE:20260415
SUMMARY:Metal Casting Conference
LOCATION:Hall DeVos Place Convention Center - Booth 617 - Grand Rapids, MI - United States
END:VEVENT
END:VCALENDAR