BEGIN:VCALENDAR
VERSION:2.0
PRODID:-//hacksw/handcal//NONSGML v1.0//EN
BEGIN:VEVENT
UID:5988@atm
ORGANIZER:CN=ATM Qness GmbH
DTSTART;VALUE=DATE:20260302
DTEND;VALUE=DATE:20260307
SUMMARY:33BIEMH
LOCATION:Hall Bilbao Exhibition Centre - San Vicente de Barakaldo, Bizkaia - Spain
END:VEVENT
END:VCALENDAR