BEGIN:VCALENDAR
VERSION:2.0
PRODID:-//hacksw/handcal//NONSGML v1.0//EN
BEGIN:VEVENT
UID:5997@atm
ORGANIZER:CN=ATM Qness GmbH
DTSTART;VALUE=DATE:20260824
DTEND;VALUE=DATE:20260828
SUMMARY:EXPOSIBRAM
LOCATION:Hall Espaço da Mineração 02 - Booth TG03 - Belo Horizonte - MG - Brazil
END:VEVENT
END:VCALENDAR