BEGIN:VCALENDAR
VERSION:2.0
PRODID:-//hacksw/handcal//NONSGML v1.0//EN
BEGIN:VEVENT
UID:6033@atm
ORGANIZER:CN=ATM Qness GmbH
DTSTART;VALUE=DATE:20260421
DTEND;VALUE=DATE:20260425
SUMMARY:Schweissen 2026 
LOCATION:Booth 21-0527 - Wels - Austria
END:VEVENT
END:VCALENDAR