BEGIN:VCALENDAR
VERSION:2.0
PRODID:-//hacksw/handcal//NONSGML v1.0//EN
BEGIN:VEVENT
UID:6035@atm
ORGANIZER:CN=ATM Qness GmbH
DTSTART;VALUE=DATE:20260923
DTEND;VALUE=DATE:20260926
SUMMARY:Materialographie 2026
LOCATION:Leoben - Austria
END:VEVENT
END:VCALENDAR