BEGIN:VCALENDAR
VERSION:2.0
PRODID:-//hacksw/handcal//NONSGML v1.0//EN
BEGIN:VEVENT
UID:6054@atm
ORGANIZER:CN=ATM Qness GmbH
DTSTART;VALUE=DATE:20260304
DTEND;VALUE=DATE:20260307
SUMMARY:MECSPE 2026
LOCATION:Hall 29 - Booth B62 - Bologna - Italy
END:VEVENT
END:VCALENDAR