BEGIN:VCALENDAR
VERSION:2.0
PRODID:-//hacksw/handcal//NONSGML v1.0//EN
BEGIN:VEVENT
UID:3415@atm
ORGANIZER:CN=ATM Qness GmbH
DTSTART;VALUE=DATE:20181002
DTEND;VALUE=DATE:20181006
SUMMARY:WOTS
LOCATION:Utrecht - Niederlande
END:VEVENT
END:VCALENDAR