BEGIN:VCALENDAR
VERSION:2.0
PRODID:-//hacksw/handcal//NONSGML v1.0//EN
BEGIN:VEVENT
UID:5470@atm
ORGANIZER:CN=ATM Qness GmbH
DTSTART;VALUE=DATE:20250914
DTEND;VALUE=DATE:20250919
SUMMARY:Geo4Göttingen 2025
LOCATION:Göttingen - Deutschland
END:VEVENT
END:VCALENDAR