BEGIN:VCALENDAR
VERSION:2.0
PRODID:-//hacksw/handcal//NONSGML v1.0//EN
BEGIN:VEVENT
UID:3477@atm
ORGANIZER:CN=ATM Qness GmbH
DTSTART;VALUE=DATE:20180206
DTEND;VALUE=DATE:20180208
SUMMARY:Introduction Materialographie et ces techniques - Partie 1
LOCATION:Mammelzen - Allemagne
END:VEVENT
END:VCALENDAR