BEGIN:VCALENDAR
VERSION:2.0
PRODID:-//hacksw/handcal//NONSGML v1.0//EN
BEGIN:VEVENT
UID:3555@atm
ORGANIZER:CN=ATM Qness GmbH
DTSTART;VALUE=DATE:20180621

SUMMARY:Inauguration Laboratoire d’essais
LOCATION:Eragny-sur-Oise - France
END:VEVENT
END:VCALENDAR