BEGIN:VCALENDAR
VERSION:2.0
PRODID:-//hacksw/handcal//NONSGML v1.0//EN
BEGIN:VEVENT
UID:4677@atm
ORGANIZER:CN=ATM Qness GmbH
DTSTART;VALUE=DATE:20230329
DTEND;VALUE=DATE:20230401
SUMMARY:MECSPE
LOCATION:Hall 29 - Stand B55 - Bologna - Italie
END:VEVENT
END:VCALENDAR