BEGIN:VCALENDAR
VERSION:2.0
PRODID:-//hacksw/handcal//NONSGML v1.0//EN
BEGIN:VEVENT
UID:5292@atm
ORGANIZER:CN=ATM Qness GmbH
DTSTART;VALUE=DATE:20250212
DTEND;VALUE=DATE:20250215
SUMMARY:A&T
LOCATION:Hall OVAL - Stand D40 - Turin - Italie
END:VEVENT
END:VCALENDAR