BEGIN:VCALENDAR
VERSION:2.0
PRODID:-//hacksw/handcal//NONSGML v1.0//EN
BEGIN:VEVENT
UID:5853@atm
ORGANIZER:CN=ATM Qness GmbH
DTSTART;VALUE=DATE:20260503
DTEND;VALUE=DATE:20260509
SUMMARY:EGU26 General Assembly
LOCATION:Vienna - Autriche
END:VEVENT
END:VCALENDAR