BEGIN:VCALENDAR
VERSION:2.0
PRODID:-//hacksw/handcal//NONSGML v1.0//EN
BEGIN:VEVENT
UID:6069@atm
ORGANIZER:CN=ATM Qness GmbH
DTSTART;VALUE=DATE:20260324
DTEND;VALUE=DATE:20260327
SUMMARY:EUROCOAT
LOCATION:Stand A05 - Paris - France
END:VEVENT
END:VCALENDAR